BEGIN:VCALENDAR
VERSION:2.0
PRODID:-//Ecological Preserve - ECPv6.15.18//NONSGML v1.0//EN
CALSCALE:GREGORIAN
METHOD:PUBLISH
X-WR-CALNAME:Ecological Preserve
X-ORIGINAL-URL:https://ecopreserve.rutgers.edu
X-WR-CALDESC:Events for Ecological Preserve
REFRESH-INTERVAL;VALUE=DURATION:PT1H
X-Robots-Tag:noindex
X-PUBLISHED-TTL:PT1H
BEGIN:VTIMEZONE
TZID:UTC
BEGIN:STANDARD
TZOFFSETFROM:+0000
TZOFFSETTO:+0000
TZNAME:UTC
DTSTART:20150101T000000
END:STANDARD
END:VTIMEZONE
BEGIN:VEVENT
DTSTART;TZID=UTC:20180512T083000
DTEND;TZID=UTC:20180512T100000
DTSTAMP:20260420T105253
CREATED:20180322T192539Z
LAST-MODIFIED:20180322T192637Z
UID:1966-1526113800-1526119200@ecopreserve.rutgers.edu
SUMMARY:Run for the Woods
DESCRIPTION:The annual RUN for THE WOODS is scheduled for Saturday\, May 12 at 9am. \nThe race is a 5k on the trails through the EcoPreserve. \nOrganized by the RU Ecology & Evolution Graduate Student Association. \n$25 race fee to support EEGSA student activities and trail maintenance in the Preserve. \nsign up at runsignup.com by searching for “run for the woods”
URL:https://ecopreserve.rutgers.edu/event/run-for-the-woods/
END:VEVENT
BEGIN:VEVENT
DTSTART;TZID=UTC:20180422T110000
DTEND;TZID=UTC:20180422T160000
DTSTAMP:20260420T105253
CREATED:20180416T165947Z
LAST-MODIFIED:20180418T233814Z
UID:1980-1524394800-1524412800@ecopreserve.rutgers.edu
SUMMARY:Trail Work Day
DESCRIPTION:Come out to celebrate Earth Week in the EcoPreserve. Help plant trees and work on the trails. \nMeeting time 12 noon at RU Outdoors Club Shed\, Road 1 (in warehouses near Crew Practice facility).
URL:https://ecopreserve.rutgers.edu/event/trail-work-day/
END:VEVENT
BEGIN:VEVENT
DTSTART;TZID=UTC:20180330T073000
DTEND;TZID=UTC:20180330T120000
DTSTAMP:20260420T105253
CREATED:20180108T223344Z
LAST-MODIFIED:20180108T223344Z
UID:1939-1522395000-1522411200@ecopreserve.rutgers.edu
SUMMARY:Air Force ROTC training
DESCRIPTION:
URL:https://ecopreserve.rutgers.edu/event/air-force-rotc-training-4/
END:VEVENT
BEGIN:VEVENT
DTSTART;TZID=UTC:20180323T073000
DTEND;TZID=UTC:20180323T120000
DTSTAMP:20260420T105253
CREATED:20180108T223424Z
LAST-MODIFIED:20180208T231753Z
UID:1941-1521790200-1521806400@ecopreserve.rutgers.edu
SUMMARY:Air Force ROTC training
DESCRIPTION:
URL:https://ecopreserve.rutgers.edu/event/air-force-rotc-training-5/
END:VEVENT
BEGIN:VEVENT
DTSTART;TZID=UTC:20171119T080000
DTEND;TZID=UTC:20171119T150000
DTSTAMP:20260420T105253
CREATED:20171005T233836Z
LAST-MODIFIED:20171106T184804Z
UID:1908-1511078400-1511103600@ecopreserve.rutgers.edu
SUMMARY:DVOA Orienteering Meet
DESCRIPTION:Meet across from Lot 101 on Avenue E. Open to all. Small registration fee.
URL:https://ecopreserve.rutgers.edu/event/dvoa-orienteering-meet/
END:VEVENT
BEGIN:VEVENT
DTSTART;TZID=UTC:20171022T140000
DTEND;TZID=UTC:20171022T160000
DTSTAMP:20260420T105253
CREATED:20171005T234038Z
LAST-MODIFIED:20171005T234258Z
UID:1910-1508680800-1508688000@ecopreserve.rutgers.edu
SUMMARY:EcoPreserve Tour with Director Rick Lathrop
DESCRIPTION:Co-hosted with Lower Raritan River Partnership \nMeet at Ave Roundabout Trailhead kiosk (across from Business School) \nPark in RAC/Business School or Lot 101
URL:https://ecopreserve.rutgers.edu/event/ru-muddy-trail-run/
END:VEVENT
BEGIN:VEVENT
DTSTART;TZID=UTC:20171006T140000
DTEND;TZID=UTC:20171006T180000
DTSTAMP:20260420T105253
CREATED:20171005T234400Z
LAST-MODIFIED:20171005T234400Z
UID:1914-1507298400-1507312800@ecopreserve.rutgers.edu
SUMMARY:RU Muddy Trail Run
DESCRIPTION:
URL:https://ecopreserve.rutgers.edu/event/ru-muddy-trail-run-2/
END:VEVENT
BEGIN:VEVENT
DTSTART;TZID=UTC:20171006T080000
DTEND;TZID=UTC:20171006T110000
DTSTAMP:20260420T105253
CREATED:20171005T233733Z
LAST-MODIFIED:20171005T233733Z
UID:1906-1507276800-1507287600@ecopreserve.rutgers.edu
SUMMARY:Air Force ROTC training
DESCRIPTION:
URL:https://ecopreserve.rutgers.edu/event/air-force-rotc-training-2/
END:VEVENT
BEGIN:VEVENT
DTSTART;TZID=UTC:20170513T080000
DTEND;TZID=UTC:20170513T100000
DTSTAMP:20260420T105253
CREATED:20170322T000222Z
LAST-MODIFIED:20170322T000222Z
UID:1890-1494662400-1494669600@ecopreserve.rutgers.edu
SUMMARY:Run for the Woods  Saturday May 13\, 2017
DESCRIPTION:The annual Run for the Woods will be held the morning of Saturday May 13\, 2017
URL:https://ecopreserve.rutgers.edu/event/run-for-the-woods-saturday-may-13-2017/
END:VEVENT
BEGIN:VEVENT
DTSTART;TZID=UTC:20170331T070000
DTEND;TZID=UTC:20170331T120000
DTSTAMP:20260420T105253
CREATED:20170207T000803Z
LAST-MODIFIED:20170207T000803Z
UID:1867-1490943600-1490961600@ecopreserve.rutgers.edu
SUMMARY:Air Force ROTC training
DESCRIPTION:
URL:https://ecopreserve.rutgers.edu/event/air-force-rotc-training/
END:VEVENT
BEGIN:VEVENT
DTSTART;TZID=UTC:20170212T140000
DTEND;TZID=UTC:20170212T153000
DTSTAMP:20260420T105253
CREATED:20170206T225219Z
LAST-MODIFIED:20170206T225219Z
UID:1864-1486908000-1486913400@ecopreserve.rutgers.edu
SUMMARY:Woods in Winter walk
DESCRIPTION:Sunday February 12\, 2017    2-4pm          Tour/Hike \nLeisurely stroll through the RU EcoPreserve with EcoPreserve Director Rick Lathrop with a special focus on the “The Woods in Winter”. \nMeet at the EcoPreserve trailhead kiosk (south of the Ave E roundabout\, across from the Business School\, Livingston Campus. Park in Scarlet Lot of the RAC).
URL:https://ecopreserve.rutgers.edu/event/woods-in-winter-walk/
END:VEVENT
BEGIN:VEVENT
DTSTART;TZID=UTC:20161030T140000
DTEND;TZID=UTC:20161030T160000
DTSTAMP:20260420T105253
CREATED:20161005T002318Z
LAST-MODIFIED:20161005T002608Z
UID:1823-1477836000-1477843200@ecopreserve.rutgers.edu
SUMMARY:RU Eco Preserve Fall Walk
DESCRIPTION:Join us for a fascinating stroll through the fall foliage of the Rutgers Ecological Preserve on Livingston Campus. Enjoy the hidden gem of Rutgers University while learning more about its history. \nParking will be available in the Scarlet Lot next to the Business Building on Livingston Campus.
URL:https://ecopreserve.rutgers.edu/event/1823/
LOCATION:Rutgers EcoPreserve Kiosk\, 83 Rockafeller Rd\, Piscataway\, NJ\, 08854\, United States
END:VEVENT
END:VCALENDAR